BEGIN:VCALENDAR
VERSION:2.0
PRODID:spatie/icalendar-generator
NAME:Flimsfestival
X-WR-CALNAME:Flimsfestival
BEGIN:VTIMEZONE
TZID:Europe/Zurich
BEGIN:STANDARD
DTSTART:20251026T030000Z
TZOFFSETFROM:+0200
TZOFFSETTO:+0100
END:STANDARD
BEGIN:DAYLIGHT
DTSTART:20260329T020000Z
TZOFFSETFROM:+0100
TZOFFSETTO:+0200
END:DAYLIGHT
BEGIN:STANDARD
DTSTART:20261025T030000Z
TZOFFSETFROM:+0200
TZOFFSETTO:+0100
END:STANDARD
END:VTIMEZONE
BEGIN:VTIMEZONE
TZID:UTC
BEGIN:STANDARD
DTSTART:20250610T080701Z
TZOFFSETFROM:+0000
TZOFFSETTO:+0000
END:STANDARD
END:VTIMEZONE
BEGIN:VEVENT
UID:2026-07-19-gartenkonzert
DTSTAMP:20260307T080701Z
SUMMARY:Flimsfestival: Gartenkonzert
DESCRIPTION:Ein neuer Ort\, ein neuer Garten\, oder besser gesagt die Terra
 sse vor dem Wohnheim Plaids\, mit schönstem Blick auf Flims\, begrünt 
 und gepflegt. Dort erwartet uns ein abwechslungsreicher Nachmittag mit Isa
 belle Gichtbrock. Die Flötistin\, Sängerin\, Sprecherin und Garten-Exp
 ertin ist genau die richtige Person für diesen Ort und lässt uns teilh
 aben an ihren musikalischen und botanischen Leidenschaften. Neben Texten u
 nd spannenden Informationen hören wir Flötenmusik aus der grössten M
 usiksammlung\, die jemals von einem einzelnen Komponisten für ein Solo- 
 Blasinstrument veröffentlicht wurde: dem „Fluyten-Lusthof“ des holla
 ̈ndischen Blockflötenvirtuosen\, Glockenspielers und Komponisten Jakob 
 van Eyck. Dieser war von Geburt an blind und wurde Glockenspieler an mehre
 ren Utrechter Kirchen. Als Glockenexperte hatte er einen hervorragenden Ru
 f. 1649 wurde sein Gehalt unter der Bedingung erhöht\, dass er die Spazi
 ergänger auf dem Kirchhof mit dem Klang seines Flötleins erfreue. Aus 
 den bei diesen Gelegenheiten gespielten Improvisationen und Variationen en
 tstand sein „Fluyten-Lusthof“. Danach die 24 Duette des französische
 n Komponisten Philibert Delavigne\, von denen jedes den Namen einer Blume 
 trägt. Sie wurden ursprünglich für zwei Musettes geschrieben\, werde
 n aber heute meistens auf Blockflöten interpretiert und passen wunderbar
  zu unserem heutigen Konzertort.
LOCATION:Via Plaids 14\, 7017 Flims
URL:
DTSTART;TZID=Europe/Zurich:20260719T150000
DTEND;TZID=Europe/Zurich:20260719T171000
END:VEVENT
END:VCALENDAR