BEGIN:VCALENDAR
VERSION:2.0
PRODID:spatie/icalendar-generator
NAME:Flimsfestival
X-WR-CALNAME:Flimsfestival
BEGIN:VTIMEZONE
TZID:Europe/Zurich
BEGIN:STANDARD
DTSTART:20251026T030000Z
TZOFFSETFROM:+0200
TZOFFSETTO:+0100
END:STANDARD
BEGIN:DAYLIGHT
DTSTART:20260329T020000Z
TZOFFSETFROM:+0100
TZOFFSETTO:+0200
END:DAYLIGHT
BEGIN:STANDARD
DTSTART:20261025T030000Z
TZOFFSETFROM:+0200
TZOFFSETTO:+0100
END:STANDARD
END:VTIMEZONE
BEGIN:VTIMEZONE
TZID:UTC
BEGIN:STANDARD
DTSTART:20250610T073348Z
TZOFFSETFROM:+0000
TZOFFSETTO:+0000
END:STANDARD
END:VTIMEZONE
BEGIN:VEVENT
UID:2026-07-18-klassik-open-air-3-pippo-pollina
DTSTAMP:20260307T073348Z
SUMMARY:Flimsfestival: klassik open air 3 | Pippo Pollina
DESCRIPTION:Er hat über 4000 Konzerte in ganz Europa gespielt und ist ein
 er der beliebtesten italienischen Liedermacher. Pippo Pollina besticht dur
 ch seine unbändige Kreativität\, mit der er seit mehr als 35 Jahren au
 ch seine vielen treuen Fans immer wieder überrascht. Sei es mit lyrische
 n Balladen\, poetischen Protestliedern oder rockigen Songs: Pollinas Sprac
 he bleibt immer sensibel und zart. Neben seinen Konzerten mit seiner Band 
 hat er auch mit unzähligen internationalen Künstler*innen wie Georges 
 Moustaki\, Franco Battiato\, Inti Illimani\, Konstantin Wecker\, Rebekka B
 akken\, Charlie Mariano oder Werner Schmidbauer &amp\; Martin Kälberer z
 usammengearbeitet. Pippo Pollina jubelt und räsoniert\, plaudert und ref
 lektiert\, mit rauer und zugleich sonorer Stimme\, manchmal einen Hauch la
 konisch\, aber nie ohne die grundlegende Ehrfurcht vor der Schönheit der
  Klänge und der Kraft der Kunst gegenüber. Denn Musik ist ein Geschenk
 . Das ist die Basis\, trotz aller Zweifel.
LOCATION:Via sorts sut 16\, 7018 Flims
URL:
DTSTART;TZID=Europe/Zurich:20260718T210000
DTEND;TZID=Europe/Zurich:20260718T211500
END:VEVENT
END:VCALENDAR