BEGIN:VCALENDAR
VERSION:2.0
PRODID:spatie/icalendar-generator
NAME:Flimsfestival
X-WR-CALNAME:Flimsfestival
BEGIN:VTIMEZONE
TZID:Europe/Zurich
BEGIN:STANDARD
DTSTART:20251026T030000Z
TZOFFSETFROM:+0200
TZOFFSETTO:+0100
END:STANDARD
BEGIN:DAYLIGHT
DTSTART:20260329T020000Z
TZOFFSETFROM:+0100
TZOFFSETTO:+0200
END:DAYLIGHT
BEGIN:STANDARD
DTSTART:20261025T030000Z
TZOFFSETFROM:+0200
TZOFFSETTO:+0100
END:STANDARD
END:VTIMEZONE
BEGIN:VTIMEZONE
TZID:UTC
BEGIN:STANDARD
DTSTART:20250610T073056Z
TZOFFSETFROM:+0000
TZOFFSETTO:+0000
END:STANDARD
END:VTIMEZONE
BEGIN:VEVENT
UID:2026-07-18-klassik-open-air-2-piazzolla
DTSTAMP:20260307T073056Z
SUMMARY:Flimsfestival: klassik open air 2 | Piazzolla
DESCRIPTION:Dass Bandoneon und Streichquartett eine äusserst spannende Ko
 mbination ist\, hat als erster der Bandoneonist und Komponist Astor Piazzo
 lla mit seinem Werk „Five Tango Sensations“ dokumentiert. Hierbei komb
 iniert er die Ausdrucksmöglichkeiten eines Streichquartetts mit den Farb
 en des Bandoneons und erweitert damit das Spektrum der Klangfarben. Sowohl
  als Ensemble als auch solistisch treten die Streichinstrumente in Dialog 
 mit dem Bandoneon und erzeugen so eine zauberhafte emotionale und melancho
 lische Stimmung\, ganz im Sinne des Tangos: sinnlich und leidenschaftlich.
LOCATION:Via sorts sut 16\, 7018 Flims
URL:
DTSTART;TZID=Europe/Zurich:20260718T193000
DTEND;TZID=Europe/Zurich:20260718T202000
END:VEVENT
END:VCALENDAR