BEGIN:VCALENDAR
VERSION:2.0
PRODID:spatie/icalendar-generator
NAME:Flimsfestival
X-WR-CALNAME:Flimsfestival
BEGIN:VTIMEZONE
TZID:Europe/Zurich
BEGIN:STANDARD
DTSTART:20251026T030000Z
TZOFFSETFROM:+0200
TZOFFSETTO:+0100
END:STANDARD
BEGIN:DAYLIGHT
DTSTART:20260329T020000Z
TZOFFSETFROM:+0100
TZOFFSETTO:+0200
END:DAYLIGHT
BEGIN:STANDARD
DTSTART:20261025T030000Z
TZOFFSETFROM:+0200
TZOFFSETTO:+0100
END:STANDARD
END:VTIMEZONE
BEGIN:VTIMEZONE
TZID:UTC
BEGIN:STANDARD
DTSTART:20250610T072718Z
TZOFFSETFROM:+0000
TZOFFSETTO:+0000
END:STANDARD
END:VTIMEZONE
BEGIN:VEVENT
UID:2026-07-18-klassik-open-air-1-Fatima-Dunn
DTSTAMP:20260307T072718Z
SUMMARY:Flimsfestival: klassik open air 1 | Fatima Dunn
DESCRIPTION:An einem friedlichen\, hoffentlich warmen Sommerabend lehnen wi
 r uns auf der Wiese des Schulinternats zurück\, hören und staunen mit 
 Blick in die Berge: Fatima Dunn\, die Cellistin und Singer-Songwriterin\, 
 wird auf der Bühne zum „One Woman Orchestra“. Mit Cello\, Stimme und
  Loopstation legt sie Tonlagen\, Musikschichten und Melodien übereinande
 r und verwebt sie zu poetischen\, sphärischen Songs. Stilistisch verbind
 et sie die klangliche Erkundung des Cellos mit Stimme\, Synthesizer\, Harm
 onium und analogen Effekten. So entstehen eigenständige\, atmosphärisc
 h dichte Klangwelten – jedes Mal anders\, jedes Mal neu!
LOCATION:Via sorts sut 16\, 7018 Flims
URL:
DTSTART;TZID=Europe/Zurich:20260718T180000
DTEND;TZID=Europe/Zurich:20260718T185000
END:VEVENT
END:VCALENDAR