BEGIN:VCALENDAR
VERSION:2.0
PRODID:spatie/icalendar-generator
NAME:Flimsfestival
X-WR-CALNAME:Flimsfestival
BEGIN:VTIMEZONE
TZID:Europe/Zurich
BEGIN:STANDARD
DTSTART:20251026T030000Z
TZOFFSETFROM:+0200
TZOFFSETTO:+0100
END:STANDARD
BEGIN:DAYLIGHT
DTSTART:20260329T020000Z
TZOFFSETFROM:+0100
TZOFFSETTO:+0200
END:DAYLIGHT
BEGIN:STANDARD
DTSTART:20261025T030000Z
TZOFFSETFROM:+0200
TZOFFSETTO:+0100
END:STANDARD
END:VTIMEZONE
BEGIN:VTIMEZONE
TZID:UTC
BEGIN:STANDARD
DTSTART:20250608T185336Z
TZOFFSETFROM:+0000
TZOFFSETTO:+0000
END:STANDARD
END:VTIMEZONE
BEGIN:VEVENT
UID:2026-07-17-Münchhausen
DTSTAMP:20260305T185336Z
SUMMARY:Flimsfestival: Familienkonzert Münchhausen
DESCRIPTION:Wir erzählen aus dem Leben von Hieronymus Carl Friedrich Frei
 herr von Münchhausen. Während der Entenjagd im lettischen Dunte soll e
 r erstmals öffentlich angefangen haben zu übertreiben. Er erzählt Ge
 schichten\, bei denen allen klar ist\, das kann so nicht sein\, aber denno
 ch hören alle zu\, sind begeistert\, hängen ihm an den Lippen. Fake Ne
 ws vor 300 Jahren\, zur Unterhaltung und zum Amusement der Anwesenden.Wir 
 erzählen ein paar seiner besten Geschichten – die mit der Kanonenkugel
  kennen wir alle\, aber Sie werden staunen\, was seiner Fantasie sonst all
 es noch entsprungen ist! Für Gross und Klein\, und der Barpianist Michae
 l Poliak kann wirklich spielen. Er hat an Bord vieler Kreuzfahrtschiffe sc
 hon so ziemlich alles erlebt und gehört\, begleitete schon tausende Stun
 den an den gepflegtesten Hotelbars auf der ganzen Welt. Nun ist er in der 
 Schweiz heimisch geworden und schüttelt in spielerischer Leichtigkeit me
 hr als 300 bekannte Hits aus dem Ärmel.Im Anschluss an das Konzert wird 
 unser kleiner Wettbewerb Sie in Staunen versetzen.
LOCATION:Via Grava 45\, 7031 Laax
URL:
DTSTART;TZID=Europe/Zurich:20260717T153000
DTEND;TZID=Europe/Zurich:20260717T161500
END:VEVENT
END:VCALENDAR