BEGIN:VCALENDAR
VERSION:2.0
PRODID:spatie/icalendar-generator
NAME:Flimsfestival
X-WR-CALNAME:Flimsfestival
BEGIN:VTIMEZONE
TZID:Europe/Zurich
BEGIN:STANDARD
DTSTART:20251026T030000Z
TZOFFSETFROM:+0200
TZOFFSETTO:+0100
END:STANDARD
BEGIN:DAYLIGHT
DTSTART:20260329T020000Z
TZOFFSETFROM:+0100
TZOFFSETTO:+0200
END:DAYLIGHT
BEGIN:STANDARD
DTSTART:20261025T030000Z
TZOFFSETFROM:+0200
TZOFFSETTO:+0100
END:STANDARD
END:VTIMEZONE
BEGIN:VTIMEZONE
TZID:UTC
BEGIN:STANDARD
DTSTART:20250608T190457Z
TZOFFSETFROM:+0000
TZOFFSETTO:+0000
END:STANDARD
END:VTIMEZONE
BEGIN:VEVENT
UID:2026-07-17-Klezmer
DTSTAMP:20260305T190457Z
SUMMARY:Flimsfestival: AUSVERKAUFT - Moritz Weiss Klezmer Trio & Simon Reit
 hofer
DESCRIPTION:Modern Klezmer aus der Steiermark. Die faszinierende Tonsprache
  der jüdischen Hochzeitsmusikanten stets als stilistisches Element im Ha
 ndgepäck\, entwickelt das Moritz Weiss Klezmer Trio die Musik zu einem w
 ahrhaftigen Feuerwerk stilistischer Vielfalt zwischen Klezmer\, Jazz und W
 orld Music. Wenn die vier Musiker aus der Steiermark aufspielen\, fliegen 
 die Funken. Mit Klarinette\, Gitarre und Kontrabass schaffen sie klanglich
 e Räume\, die zum Staunen einladen\, schwungvoll zum Tanzen animieren od
 er voller Sinnlichkeit die Seele berühren. Einst in der vielfältigen W
 elt des Klezmers verwurzelt\, stehen heute vor allem die eigenen Kompositi
 onen und verspielten Interpretationen im Mittelpunkt. Das neue Programm 
 „Wind“ ist den Konzertreisen des Trios der letzten Jahre quer über d
 en Globus gewidmet. Wie der Wind verbindet das Moritz Weiss Klezmer Trio d
 iese Fülle an Eindrücken mit ihren eigenen stilistischen Zugängen zw
 ischen Klezmer\, Jazz und World Music und lässt eine eindrucksvolle Gesa
 mtschau erklingen. Special Guest Simon Reithofer an der Gipsy-Gitarre unte
 rstreicht mit seinem beseelten Ausdruck nochmals die instrumentale Lyrik d
 es neuen Programms „Wind“.
LOCATION:Via San Clau 2a\, 7018 Flims Waldhaus
URL:
DTSTART;TZID=Europe/Zurich:20260717T200000
DTEND;TZID=Europe/Zurich:20260717T211500
END:VEVENT
END:VCALENDAR