BEGIN:VCALENDAR
VERSION:2.0
PRODID:spatie/icalendar-generator
NAME:Flimsfestival
X-WR-CALNAME:Flimsfestival
BEGIN:VTIMEZONE
TZID:Europe/Zurich
BEGIN:STANDARD
DTSTART:20251026T030000Z
TZOFFSETFROM:+0200
TZOFFSETTO:+0100
END:STANDARD
BEGIN:DAYLIGHT
DTSTART:20260329T020000Z
TZOFFSETFROM:+0100
TZOFFSETTO:+0200
END:DAYLIGHT
BEGIN:STANDARD
DTSTART:20261025T030000Z
TZOFFSETFROM:+0200
TZOFFSETTO:+0100
END:STANDARD
END:VTIMEZONE
BEGIN:VTIMEZONE
TZID:UTC
BEGIN:STANDARD
DTSTART:20250608T184354Z
TZOFFSETFROM:+0000
TZOFFSETTO:+0000
END:STANDARD
END:VTIMEZONE
BEGIN:VEVENT
UID:2026-07-16-Dunkelkonzert
DTSTAMP:20260305T184354Z
SUMMARY:Flimsfestival: Dunkelkonzert
DESCRIPTION:Die Geschichte der Dunkelkonzerte fasziniert uns schon lange. U
 rsprünglich aus einer Notwendigkeit erfunden\, um im 2. Weltkrieg nicht 
 aus der Luft gesehen zu werden\, übersetzen wir sie in die heutige Zeit.
  Wie anders\, um wieviel intensiver wirkt eine Sinneswahrnehmung\, wenn ei
 ne andere fehlt? Hören wir anders\, wenn wir die Musiker*innen und den R
 aum nicht mehr sehen? Eine neue und zugleich alte Idee\, und heute in Flim
 s\, ein englischer Krimi mit alter englischer Musik begleitet: Wie kaum ei
 n anderer kannte Henry Purcell Licht und Schatten des Musikerlebens und ve
 rarbeitete dies genauso eindrücklich in die Musik\, die er bis zu seinem
  frühen Tod mit nur 35 Jahren schuf. Eng verbunden mit der englischen Kr
 one arbeitete er für diese.Dazu passt die Geschichte von Roald Dahl „D
 ie Wirtin“ bestens. Auch diese spielt wie die Musik an der Südküste\
 , wo der junge Billy Wealder abends ein Zimmer sucht. Im Konzert selber mo
 ̈chten wir unserer Phantasie freien Lauf lassen\, wir verteilen (freiwill
 ig) Augenmasken\, so dass wir Musik und Geschichte „nur“ hören kön
 nen\, die Bilder kreieren wir uns selber in unserem eigenen Kopf....Spanne
 nd\, wie der Krimi! Lassen Sie sich auf dieses Experiment ein... der Raum 
 selber wird nicht ganz abgedunkelt sein.
LOCATION:Via Gutveina 8\, 7018 Flims Waldhaus
URL:
DTSTART;TZID=Europe/Zurich:20260716T200000
DTEND;TZID=Europe/Zurich:20260716T211500
END:VEVENT
END:VCALENDAR