BEGIN:VCALENDAR
VERSION:2.0
PRODID:spatie/icalendar-generator
NAME:Flimsfestival
X-WR-CALNAME:Flimsfestival
BEGIN:VTIMEZONE
TZID:Europe/Zurich
BEGIN:STANDARD
DTSTART:20251026T030000Z
TZOFFSETFROM:+0200
TZOFFSETTO:+0100
END:STANDARD
BEGIN:DAYLIGHT
DTSTART:20260329T020000Z
TZOFFSETFROM:+0100
TZOFFSETTO:+0200
END:DAYLIGHT
BEGIN:STANDARD
DTSTART:20261025T030000Z
TZOFFSETFROM:+0200
TZOFFSETTO:+0100
END:STANDARD
END:VTIMEZONE
BEGIN:VTIMEZONE
TZID:UTC
BEGIN:STANDARD
DTSTART:20250606T113352Z
TZOFFSETFROM:+0000
TZOFFSETTO:+0000
END:STANDARD
END:VTIMEZONE
BEGIN:VEVENT
UID:2026-07-15-gianna-olinda-cadonau
DTSTAMP:20260303T113352Z
SUMMARY:Flimsfestival: Gianna Olinda Cadonau
DESCRIPTION:Gianna Olinda Cadonau wuchs im Engadin auf\, redete mit ihrem V
 ater romanisch und mit ihrer Mutter schweizerdeutsch. 2016 und 2020 verö
 ffentlichte sie bei editionmevinapuorger die mehrsprachigen Lyrikbände 
 „ultim’ura da la not - Letzte Stunde der Nacht“ und „pajais in uon
 das - wiegendes Land“. Im 2023 folgte ihr erster Roman\, bereits preisge
 krönt: „Die Feuerlilie“. Neben ihrer literarischen Tätigkeit ist G
 ianna Olinda Cadonau auch vielseitig aktiv im Bündner Kulturleben. Seit 
 2010 ist sie beim Dachverband der romanischen Sprachvereine „Lia Rumants
 cha“ für die Kulturförderung verantwortlich\, fördert die Sprache 
 und bringt Menschen zusammen. Heute Abend liest die Autorin aus ihren neue
 sten Erzählungen „Am Kantenhain“. Sie thematisieren das Fremde\, das
  Anderssein\, die Suche nach Zugehörigkeit\, die Freundschaft\, Rätsel
  und Wunder. Zwischen den Zeilen ihrer atmosphärisch dichten\, kunstvoll
 en Geschichten liegt eine suggestive Sogwirkung. Behutsam und subtil beleu
 chtet Gianna Olinda Cadonau in ihrer poetischen\, klaren Sprache die Bezie
 hungen ihrer Figuren\, und so gelingt es ihr\, mit grossem Einfühlungsve
 rmögen Unaussprechbares sichtbar zu machen.Der Musiker Jan Rehwinkel umr
 ahmt die Texte auf seinem Didgeridoo\, indem er ihm unerwartete Klänge\,
  von schwebend leicht bis energetisch geladen\, entlockt. Von indischer Rh
 ythmik beeinflusst\, schlägt sein perkussives Spiel immer wieder eine Br
 ücke zwischen dem erdigen Grundton des Didgeridoos und den Feinheiten de
 r Klanggestaltung.
LOCATION:Via dils Larischs 5\, 7018 Flims Waldhaus
URL:
DTSTART;TZID=Europe/Zurich:20260715T200000
DTEND;TZID=Europe/Zurich:20260715T211500
END:VEVENT
END:VCALENDAR