BEGIN:VCALENDAR
VERSION:2.0
PRODID:spatie/icalendar-generator
NAME:Flimsfestival
X-WR-CALNAME:Flimsfestival
BEGIN:VTIMEZONE
TZID:Europe/Zurich
BEGIN:STANDARD
DTSTART:20251026T030000Z
TZOFFSETFROM:+0200
TZOFFSETTO:+0100
END:STANDARD
BEGIN:DAYLIGHT
DTSTART:20260329T020000Z
TZOFFSETFROM:+0100
TZOFFSETTO:+0200
END:DAYLIGHT
BEGIN:STANDARD
DTSTART:20261025T030000Z
TZOFFSETFROM:+0200
TZOFFSETTO:+0100
END:STANDARD
END:VTIMEZONE
BEGIN:VTIMEZONE
TZID:UTC
BEGIN:STANDARD
DTSTART:20250606T110147Z
TZOFFSETFROM:+0000
TZOFFSETTO:+0000
END:STANDARD
END:VTIMEZONE
BEGIN:VEVENT
UID:2026-07-14-bass-erstaunt
DTSTAMP:20260303T110147Z
SUMMARY:Flimsfestival: Bass erstaunt
DESCRIPTION:Patrick Süskind stellte schon 1981 in seinem Einakter „Der 
 Kontrabass“ klar\, wer ein Orchester zusammenhält\, wem alle Musiker*i
 nnen folgen (nicht dem Dirigenten)\, wem eigentlich die Ehre im Orchester 
 gebühren sollte (ebenfalls nicht dem Dirigenten). Josef Gilgenreiner\, S
 olobassist des Musikkollegiums Winterthur und Mitglied des belgischen Ense
 mbles „Le Concert Olympique“ demonstriert uns mit seinem Programm „B
 ass erstaunt“\, dass das tiefe Register keinesfalls unterschätzt werde
 n sollte.In einem solchen Programm darf natürlich der Komponist Giovanni
  Bottesini\, der „Paganini des Kontrabasses“\, auf keinen Fall fehlen.
  Er spielte ursprünglich Geige und fand eher zufällig zum Kontrabass\,
  da in Milano gerade keine Studienplätze für Violine frei waren. Also 
 sattelte er kurzerhand um\, beendete sein Studium mit Bravour und bereiste
  fortan als gefeierter Kontrabass-Virtuose die halbe Welt. In Manuel de Fa
 llas Volkliedern übernimmt der Kontrabass die Gesangslinie\, was den Wer
 ken einen melancholischen Charakter mit beeindruckender Klangtiefe verscha
 fft\, inkl. einem hohen Mass an technischer Flexibiliät des Solisten.Ein
  wenig humorvoll\, oder zumindest mit einem Augenzwinkern\, lassen wir ein
 fach mal alles auf uns zukommen\, was da so aus der Tiefe zu uns ruft.
LOCATION:Via Sut Baselgia 6\, 7018 Flims Waldhaus
URL:
DTSTART;TZID=Europe/Zurich:20260714T200000
DTEND;TZID=Europe/Zurich:20260714T211000
END:VEVENT
END:VCALENDAR