BEGIN:VCALENDAR
VERSION:2.0
PRODID:spatie/icalendar-generator
NAME:Flimsfestival
X-WR-CALNAME:Flimsfestival
BEGIN:VTIMEZONE
TZID:Europe/Zurich
BEGIN:STANDARD
DTSTART:20251026T030000Z
TZOFFSETFROM:+0200
TZOFFSETTO:+0100
END:STANDARD
BEGIN:DAYLIGHT
DTSTART:20260329T020000Z
TZOFFSETFROM:+0100
TZOFFSETTO:+0200
END:DAYLIGHT
BEGIN:STANDARD
DTSTART:20261025T030000Z
TZOFFSETFROM:+0200
TZOFFSETTO:+0100
END:STANDARD
END:VTIMEZONE
BEGIN:VTIMEZONE
TZID:UTC
BEGIN:STANDARD
DTSTART:20250602T160526Z
TZOFFSETFROM:+0000
TZOFFSETTO:+0000
END:STANDARD
END:VTIMEZONE
BEGIN:VEVENT
UID:2026-07-13-kulturreise
DTSTAMP:20260227T160526Z
SUMMARY:Flimsfestival: Kulturreise
DESCRIPTION:Am Vorabend durften wir Andreas Jetter bereits in Flims erleben
 \, nun zeigt er uns „seine“ Kirche\, also eigentlich eher „seine Dom
 orgel“\, der er wie niemand sonst das gesamte Spektrum an klanglichen Mo
 ̈glichkeiten entlockt\, indem er sein virtuoses Spiel mit der optimalen R
 egistrierung kombiniert. Er zeigt in einem kurzen Querschnitt die Möglic
 hkeiten der neuen Domorgel mit Werken von Bach bis Widor.Anschliessend hab
 en wir die Ehre\, das bischöfliche Schloss\, das sich nur einen Steinwur
 f entfernt von der Kathedrale befindet\, zu besuchen. Dort lässt uns Dan
 iel Kagerer mit seiner Geige Zeit und Ort vergessen... an diese Minuten we
 rden Sie zurückdenken\, versprochen! Ihr Leben lang. Zusammen wandern wi
 r hinunter in die Churer Altstadt. Dort müssen wir Ihnen einen Saal zeig
 en\, den Sie vielleicht noch nie gesehen haben\, jedenfalls nicht in diese
 m Zusammenhang\, denn hier geschah ganz grosses Theater. Mehr dürfen wir
  dazu nicht verraten... Passend zum Raum hören wir ein paar grossartige 
 Szenen: so klingt unsere Sprache. Wir freuen uns schon jetzt auf diesen be
 sonderen kulturellen Nachmittag.&nbsp\;
LOCATION:Hof 19\, 7000 Chur
URL:
DTSTART;TZID=Europe/Zurich:20260713T130000
DTEND;TZID=Europe/Zurich:20260613T173000
END:VEVENT
END:VCALENDAR