BEGIN:VCALENDAR
VERSION:2.0
PRODID:spatie/icalendar-generator
NAME:Flimsfestival
X-WR-CALNAME:Flimsfestival
BEGIN:VTIMEZONE
TZID:Europe/Zurich
BEGIN:DAYLIGHT
DTSTART:20260329T020000Z
TZOFFSETFROM:+0100
TZOFFSETTO:+0200
END:DAYLIGHT
BEGIN:STANDARD
DTSTART:20261025T030000Z
TZOFFSETFROM:+0200
TZOFFSETTO:+0100
END:STANDARD
END:VTIMEZONE
BEGIN:VTIMEZONE
TZID:UTC
BEGIN:STANDARD
DTSTART:20250611T154446Z
TZOFFSETFROM:+0000
TZOFFSETTO:+0000
END:STANDARD
END:VTIMEZONE
BEGIN:VEVENT
UID:2026-06-15-laaxersee
DTSTAMP:20260308T154446Z
SUMMARY:Flimsfestival: Laaxersee
DESCRIPTION:Es gibt Formate\, die kaum verändert werden dürfen\, da sie
  einerseits perfekt funktionieren und andererseits vom Publikum genau so e
 rwartet werden. Das Konzert auf dem Laaxersee gehört dazu: spielen die M
 usiker nicht nur auf dem Boot\, sondern an Land\, sonst wäre das Publiku
 m enttäuscht... deshalb – und auch\, weil wir selbst von diesem Konzer
 tformat total überzeugt sind – schicken wir auch dieses Jahr wieder zw
 ei Trompeter aufs Boot. Die beiden haben das noch nie zuvor gemacht und br
 ingen mit neuen Stücken frischen Wind auf den hoffentlich ruhigen See\, 
 in dem sich der Abendhimmel spiegelt\, bevor alles von der Dunkelheit eing
 enommen wird und nur noch die Fackeln am Seeufer leuchten.
LOCATION:Via Falera 1\, 7031 Laax
URL:
DTSTART;TZID=Europe/Zurich:20260815T210000
DTEND;TZID=Europe/Zurich:20260815T220000
END:VEVENT
END:VCALENDAR